Workbook
Name Aideactif: 'Aide patrimoine'!$BI$2:$BI$502
Name Aideactif2: #REF!
Name Aideactif3: 'Aide patrimoine'!$AL$2:$AL$502
Name Aideactif4: #REF!
Name Aideactions: 'Aide répartition cible'!$CY$2:$CY$31
Name Aidealternatifs: 'Aide répartition cible'!$CZ$2:$CZ$31
Name Aideautres: 'Aide répartition cible'!$DA$2:$DA$31
Name Aideclasse: 'Aide patrimoine'!$BM$2:$BM$31
Name Aideclasse2: 'Aide patrimoine'!$AK$2:$AK$1048576
Name Aideclasse3: 'Aide répartition cible'!$O$14:$O$46
Name Aideclasse4: #REF!
Name Aideemplacement: 'Liste Banque-Enveloppe'!$C$7:$C$1048576
Name aideemplacementalpha: 'Aide patrimoine'!$AX$2:$AX$201
Name Aidegdeclasse2: #REF!
Name Aidegrandeclasse: 'Aide patrimoine'!$AJ$2:$AJ$1048576
Name Aideimmobilier: 'Aide répartition cible'!$CX$2:$CX$31
Name Aideliquidite: 'Aide répartition cible'!$CV$2:$CV$31
Name Aideobligations: 'Aide répartition cible'!$CW$2:$CW$31
Name Aideproduit1: #REF!
Name Aideproduit10: #REF!
Name Aideproduit11: #REF!
Name Aideproduit12: #REF!
Name Aideproduit13: #REF!
Name Aideproduit14: #REF!
Name Aideproduit15: #REF!
Name Aideproduit16: #REF!
Name Aideproduit17: #REF!
Name Aideproduit18: #REF!
Name Aideproduit19: #REF!
Name Aideproduit2: #REF!
Name Aideproduit20: #REF!
Name Aideproduit21: #REF!
Name Aideproduit22: #REF!
Name Aideproduit23: #REF!
Name Aideproduit24: #REF!
Name Aideproduit25: #REF!
Name Aideproduit26: #REF!
Name Aideproduit27: #REF!
Name Aideproduit28: #REF!
Name Aideproduit29: #REF!
Name Aideproduit3: #REF!
Name Aideproduit30: #REF!
Name Aideproduit4: #REF!
Name Aideproduit5: #REF!
Name Aideproduit6: #REF!
Name Aideproduit7: #REF!
Name Aideproduit8: #REF!
Name Aideproduit9: #REF!
Name etat: 'Aide patrimoine'!$U$27
Name Evol: 'Aide patrimoine'!$W$24
Name EvolM: 'Aide patrimoine'!$Y$21
Name Evolmois: 'Aide patrimoine'!$W$25
Name EvolN: 'Aide patrimoine'!$X$21
Name EvolvalM: 'Aide patrimoine'!$Y$22
Name EvolvalN: 'Aide patrimoine'!$X$22
Name Investact: 'Aide budget'!$T$1
Name Investcib: 'Aide budget'!$U$1
Name Investissementact: 'Aide budget'!$T$2
Name InvestissementactRP2: 'Aide budget'!$T$3
Name Investissementcib: 'Aide budget'!$U$2

Sheet Menu de navigation
F2: PATRIMOINE + MENU DE NAVIGATION
P4: © 3PE Conseil & Excel Power Plus – Tous droits réservés. Cet outil est une création protégée au titre de la propriété intellectuelle. Il est strictement réservé à un usage personnel et non commercial. Toute reproduction, distribution, revente, ou partage – même gratuit – sans autorisation écrite préalable de 3PE Conseil et Excel Power Plus constitue une violation de nos droits et expose l’auteur à des poursuites civiles et pénales, incluant des sanctions financières.
G7: Budget-Investissement
P18: Mail support patrimoineplus@investirsimple.com
C25: DISCLAIMER Les informations contenues dans l'outil Patrimoine Plus et ses tutoriels sont à portée générale et ne s’apparentent, en aucun cas, à des recommandations personnalisées relatives à des instruments financiers, et/ou des services d’investissement, à des produits de nature assurantielle, ou encore à de l’intermédiation en opérations de banque, en services de paiement. Ces mêmes informations sont communiquées dans un but exclusivement pédagogique et d’éducation financière. Elles n'ont pas vocation et ne devraient pas être considérées comme une invitation, une incitation, une sollicitation directe ou indirecte, et/ ou un encouragement à acheter ou vendre tels ou tels actifs. Ce que je dis relève exclusivement de mon expérience personnelle dans le présent contenu et ne devra pas être considéré comme une recommandation personnalisée, ou une incitation à suivre les informations communiquées et/ou mes opinions concernant les produits éventuellement cités. Les informations fournies dans cet outil et les tutoriels associés ne doivent en aucun cas être l'unique source conduisant à prendre une décision d'investissement. L’investisseur est seul responsable de l’utilisation de l’information fournie, sans recours contre les propriétaires de l'outil, qui ne sont pas responsables en cas d’erreur, d’omission, d’investissement inopportun ou d’évolution du marché défavorable aux opérations réalisées. Les investissements objets de Patrimoine Plus présentent nécessairement des risques. Vous pouvez subir des pertes. Les performances passées ne préjugent pas des performances futures, elles ne sont pas constantes dans le temps et ne constituent en aucun cas une garantie future de performance ou de capital. ⚠️ Concernant les projections patrimoniales : les calculs et simulations présentés dans l’outil reposent uniquement sur des hypothèses mathématiques et théoriques. Ils ne constituent pas une prévision, ni un engagement contractuel, ni une promesse de résultat. Ces projections n’ont pour objet que d’illustrer l’impact potentiel de certaines hypothèses retenues et ne doivent en aucun cas être utilisées comme une garantie de performance ou de valorisation future. L’utilisateur demeure pleinement responsable de ses décisions et doit, le cas échéant, se rapprocher d’un professionnel qualifié pour obtenir un conseil adapté à sa situation personnelle. ⚠️ Concernant l’utilisation de l’outil : les résultats dépendent exclusivement de l’exactitude et de l’exhaustivité des données saisies par l’utilisateur. Toute erreur de saisie, d’interprétation ou de manipulation peut entraîner des résultats inexacts. Les concepteurs de l’outil déclinent toute responsabilité en cas d’erreurs, d’omissions ou de conséquences liées à une utilisation incorrecte du fichier Excel. Le présent outil et ses tutoriels sont totalement indépendants de l’activité de conseil en investissements financiers par ailleurs fournie par le cabinet 3PE Conseil, ledit contenu ne devant créer aucune confusion à cet égard.
C41: V2

Sheet Liste Classe d'actifs
B2: Liste Classe d'actifs
A4: Saisir vos différentes classes d'actifs (30 maximum) en colonne B | I4: 0.02
A5: Saisir la performance annuelle théorique nette d'inflation attendue pour chaque classe d'actifs en colonne H | G5: Mentionner le taux d'inflation →
A6: La performance annuelle théorique nette d'inflation est calculée automatiquement selon le taux d'inflation.
A7: Grande Classe d'actifs | B7: Classe d'actifs | C7: Exposition au risque | D7: Volatilité | E7: Type de gestion | F7: Liquidité | G7: Durée d'investissement | H7: Performance annuelle théorique brute d'inflation (hors fiscalité) | I7: Performance annuelle théorique nette d'inflation (hors fiscalité) | J7: Commentaire
A8: Liquidités | B8: Cash en banque | C8: Défensif | D8: Faible | E8: Passive | F8: Liquide | G8: Court terme | H8: 0 | I8: =IF(AND(B8<>"",H8=""),0,IF(H8="","",H8-$I$4)) -> -0.02
A9: Liquidités | B9: Epargne | C9: Défensif | D9: Faible | E9: Passive | F9: Liquide | G9: Court terme | H9: 0.03 | I9: =IF(AND(B9<>"",H9=""),0,IF(H9="","",H9-$I$4)) -> 0.01
A10: Actions | B10: Stock Picking | C10: Offensif | D10: Forte | E10: Semi-active | F10: Semi-liquide | G10: Long terme | H10: 0.12 | I10: =IF(AND(B10<>"",H10=""),0,IF(H10="","",H10-$I$4)) -> 0.1
A11: Actions | B11: ETF actions | C11: Offensif | D11: Forte | E11: Passive | F11: Semi-liquide | G11: Long terme | H11: 0.09 | I11: =IF(AND(B11<>"",H11=""),0,IF(H11="","",H11-$I$4)) -> 0.07
A12: Immobilier | B12: Immo physique | C12: Intermédiaire | D12: Modérée | E12: Active | F12: Non liquide | G12: Long terme | H12: 0.06 | I12: =IF(AND(B12<>"",H12=""),0,IF(H12="","",H12-$I$4)) -> 0.04
A13: Immobilier | B13: Immo papier | C13: Intermédiaire | D13: Modérée | E13: Passive | F13: Non liquide | G13: Long terme | H13: 0.05 | I13: =IF(AND(B13<>"",H13=""),0,IF(H13="","",H13-$I$4)) -> 0.03
A14: Immobilier | B14: Crowfunding immo | C14: Offensif | D14: Modérée | E14: Passive | F14: Semi-liquide | G14: Moyen terme | H14: 0.1 | I14: =IF(AND(B14<>"",H14=""),0,IF(H14="","",H14-$I$4)) -> 0.08
A15: Alternatifs/Exotiques | B15: Cryptos | C15: Offensif | D15: Très forte | E15: Semi-active | F15: Liquide | G15: Moyen terme | H15: 0.15 | I15: =IF(AND(B15<>"",H15=""),0,IF(H15="","",H15-$I$4)) -> 0.13
A16: Alternatifs/Exotiques | B16: Or | C16: Défensif | D16: Modérée | E16: Passive | F16: Semi-liquide | G16: Long terme | H16: 0.035 | I16: =IF(AND(B16<>"",H16=""),0,IF(H16="","",H16-$I$4)) -> 0.015
A17: Autres | B17: Capital Société privée | C17: Défensif | D17: Modérée | E17: Semi-active | F17: Non liquide | G17: Long terme | H17: 0.015 | I17: =IF(AND(B17<>"",H17=""),0,IF(H17="","",H17-$I$4)) -> -0.005
A18: Obligations | B18: ETF Obligations | C18: Offensif | D18: Faible | E18: Passive | F18: Semi-liquide | G18: Long terme | H18: 0.04 | I18: =IF(AND(B18<>"",H18=""),0,IF(H18="","",H18-$I$4)) -> 0.02
I19: =IF(AND(B19<>"",H19=""),0,IF(H19="","",H19-$I$4))
I20: =IF(AND(B20<>"",H20=""),0,IF(H20="","",H20-$I$4))
I21: =IF(AND(B21<>"",H21=""),0,IF(H21="","",H21-$I$4))
I22: =IF(AND(B22<>"",H22=""),0,IF(H22="","",H22-$I$4))
I23: =IF(AND(B23<>"",H23=""),0,IF(H23="","",H23-$I$4))
I24: =IF(AND(B24<>"",H24=""),0,IF(H24="","",H24-$I$4))
I25: =IF(AND(B25<>"",H25=""),0,IF(H25="","",H25-$I$4))
I26: =IF(AND(B26<>"",H26=""),0,IF(H26="","",H26-$I$4))
I27: =IF(AND(B27<>"",H27=""),0,IF(H27="","",H27-$I$4))
I28: =IF(AND(B28<>"",H28=""),0,IF(H28="","",H28-$I$4))
I29: =IF(AND(B29<>"",H29=""),0,IF(H29="","",H29-$I$4))
I30: =IF(AND(B30<>"",H30=""),0,IF(H30="","",H30-$I$4))
... I37: =IF(AND(B37<>"",H37=""),0,IF(H37="","",H37-$I$4))
A40: © 3PE Conseil & Excel Power Plus – Tous droits réservés. Cet outil est une création protégée au titre de la propriété intellectuelle. Il est strictement réservé à un usage personnel et non commercial. Toute reproduction, distribution, revente, ou partage – même gratuit – sans autorisation écrite préalable de 3PE Conseil et Excel Power Plus constitue une violation de nos droits et expose l’auteur à des poursuites civiles et pénales, incluant des sanctions financières.

Sheet Liste Banque-Enveloppe
B2: Liste Banque - Enveloppe
A4: Saisir les différentes enveloppes et banques dans lesquelles vous détenez vos classe d'actifs
A6: Enveloppe/Bien | B6: Banque/Plateforme | C6: Emplacement | D6: Commentaire | F6: Exemples d'Enveloppes/Bien | G6: Exemples de Banques/Plateformes
A7: Compte courant | B7: Crédit Agricole | C7: =B7&" - "&A7 -> Crédit Agricole - Compte courant | F7: Compte courant | G7: Crédit agricole
A8: Livret A | B8: Crédit Agricole | C8: =B8&" - "&A8 -> Crédit Agricole - Livret A | F8: Livret A | G8: Crédit agricole
A9: CEX | B9: Binance | C9: =B9&" - "&A9 -> Binance - CEX | F9: PEA | G9: Boursobank
A10: Cold wallet | B10: Ledger | C10: =B10&" - "&A10 -> Ledger - Cold wallet | F10: Assurance vie | G10: Boursobank
A11: CTO | B11: Trade Republic | C11: =B11&" - "&A11 -> Trade Republic - CTO | F11: SCPI en direct | G11: Corum
A12: Assurance Vie | B12: Linxea | C12: =B12&" - "&A12 -> Linxea - Assurance Vie | F12: CTO | G12: Trade Republic
A13: Assurance Vie | B13: BoursoBank | C13: =B13&" - "&A13 -> BoursoBank - Assurance Vie | F13: Cold Wallet | G13: Ledger
A14: PEA | B14: BoursoBank | C14: =B14&" - "&A14 -> BoursoBank - PEA | F14: Exchange (CEX) | G14: Binance
A15: Résidence principale | B15: Direct | C15: =B15&" - "&A15 -> Direct - Résidence principale | F15: Résidence principale | G15: Direct
A16: Compte Pro | B16: Crédit Mutuel | C16: =B16&" - "&A16 -> Crédit Mutuel - Compte Pro | F16: LMNP | G16: Direct
A17: LMNP | B17: Direct | C17: =B17&" - "&A17 -> Direct - LMNP | F17: … | G17: …
A18: SCPI en direct | B18: Corum | C18: =B18&" - "&A18 -> Corum - SCPI en direct
A19: Or en direct | B19: AuCoffre | C19: =B19&" - "&A19 -> AuCoffre - Or en direct
C20: =B20&" - "&A20 -> -
C21: =B21&" - "&A21 -> -
C22: =B22&" - "&A22 -> -
C23: =B23&" - "&A23 -> -
C24: =B24&" - "&A24 -> -
C25: =B25&" - "&A25 -> -
C26: =B26&" - "&A26 -> -
C27: =B27&" - "&A27 -> -
C28: =B28&" - "&A28 -> -
C29: =B29&" - "&A29 -> -
C30: =B30&" - "&A30 -> -
C31: =B31&" - "&A31 -> -
... C206: =B206&" - "&A206 -> -

Sheet Saisie Budget-Investissement
C2: Budget & Investissement Mensuel
Q3: ACTUEL | R3: CIBLE
A4: Faire le point sur votre budget en saississant vos revenus, vos dépenses et vos investissements actuels et cibles | M4: Epargne encore disponible pour les investissements: | Q4: =SUM(D8:D107)-SUM(J8:J107)-SUM(Q8:Q107) -> 0 | R4: =SUM(E8:E107)-SUM(K8:K107)-SUM(R8:R107) -> 0
A6: MES REVENUS | G6: MES DEPENSES | M6: MES PLANS D'INVESTISSEMENTS
A7: Type de revenu | B7: Fixe/ Variable | C7: Bien/Objet concerné | D7: Montant mensuel actuel | E7: Montant mensuel cible | G7: Type de dépense | H7: Fixe/ Variable | I7: Bien/Objet concerné | J7: Montant mensuel actuel | K7: Montant mensuel cible | M7: Classe d'actifs | N7: Emplacement | O7: Fixe/ Variable | P7: Produit concerné (facultatif) | Q7: Montant mensuel actuel | R7: Montant mensuel cible
A8: Revenus professionnels | B8: Fixe | C8: Entreprise principale | D8: 2800 | E8: 3300 | G8: Assurances | H8: Fixe | I8: Assurance décès | J8: 5 | K8: 5 | M8: Stock Picking | N8: BoursoBank - PEA | O8: Variable | P8: Air liquide | Q8: 50 | R8: 50
A9: Aides | B9: Fixe | C9: Aide famille | D9: 400 | E9: 400 | G9: Assurances | H9: Fixe | I9: Garantie accident de la vie | J9: 12 | K9: 12 | M9: Stock Picking | N9: Trade Republic - CTO | O9: Fixe | P9: Microsoft | Q9: 50 | R9: 100
A10: Revenus locatifs | B10: Fixe | C10: Loyer Appart | D10: 300 | E10: 600 | G10: Logement | H10: Fixe | I10: Intérêt RP | J10: 120 | K10: 120 | M10: ETF actions | N10: Trade Republic - CTO | O10: Fixe | P10: ETF Ishares World | Q10: 150 | R10: 300
G11: Logement | H11: Fixe | I11: Assurance RP | J11: 45 | K11: 45 | M11: Cryptos | N11: Ledger - Cold wallet | O11: Variable | P11: Bitcoin | Q11: 75 | R11: 150
G12: Logement | H12: Fixe | I12: Eau RP | J12: 15 | K12: 15 | M12: Cryptos | N12: Binance - CEX | O12: Variable | P12: Altcoins | Q12: 50 | R12: 50
G13: Logement | H13: Fixe | I13: Electricité RP | J13: 90 | K13: 125 | M13: Or | N13: Trade Republic - CTO | O13: Fixe | P13: Or Papier | Q13: 200 | R13: 200
G14: Loisirs | H14: Variable | I14: Cadeaux | J14: 160 | K14: 150 | M14: Immo physique | N14: Direct - Résidence principale | O14: Fixe | P14: Résidence principale | Q14: 450 | R14: 450
G15: Loisirs | H15: Variable | I15: Sortie | J15: 150 | K15: 120 | M15: Immo papier | N15: Linxea - Assurance Vie | O15: Fixe | P15: SCPI Remake Live | Q15: 200 | R15: 400
G16: Loisirs | H16: Variable | I16: Voyage | J16: 200 | K16: 150 | M16: Cash en banque | N16: Crédit Agricole - Compte courant | O16: Fixe | Q16: 163 | R16: 188
G17: Véhicule/Transport | H17: Fixe | I17: Assurance | J17: 55 | K17: 55 | M17: Stock Picking | N17: Trade Republic - CTO | O17: Fixe | P17: TotalEnergies | R17: 100
G18: Véhicule/Transport | H18: Fixe | I18: Entretien Voiture | J18: 80 | K18: 80 | M18: Immo physique | N18: Direct - LMNP | O18: Fixe | P18: Appart Bordeaux | Q18: 200 | R18: 200
G19: Véhicule/Transport | H19: Variable | I19: Gasoil | J19: 130 | K19: 130 | M19: ETF Obligations | N19: BoursoBank - PEA | O19: Fixe | P19: ETF Obligatons PEA | R19: 200
G20: Vie quotidienne | H20: Fixe | I20: Abonnement mot de passe | J20: 5 | K20: 5
G21: Vie quotidienne | H21: Fixe | I21: Abonnement Téléphone | J21: 30 | K21: 30
G22: Vie quotidienne | H22: Fixe | I22: Abonnement Wifi | J22: 12 | K22: 12
G23: Vie quotidienne | H23: Fixe | I23: Alimentation | J23: 220 | K23: 250
G24: Vie quotidienne | H24: Fixe | I24: Coiffeur | J24: 15 | K24: 15
G25: Vie quotidienne | H25: Variable | I25: Vêtement | J25: 50 | K25: 60
G26: Enfants | H26: Fixe | I26: Crêche | J26: 225 | K26: 240
G27: Enfants | H27: Fixe | I27: Complémentaire santé | J27: 20 | K27: 20
G28: Enfants | H28: Fixe | I28: Autre | J28: 150 | K28: 150
G29: Autres dépenses | H29: Fixe | I29: Banque | J29: 3 | K29: 3
G30: Autres dépenses | H30: Fixe | I30: Carte de crédit | J30: 20 | K30: 20
G31: Logement | H31: Fixe | I31: Appart locatif (interet +charge) | J31: 100 | K31: 100
A110: © 3PE Conseil & Excel Power Plus – Tous droits réservés. Cet outil est une création protégée au titre de la propriété intellectuelle. Il est strictement réservé à un usage personnel et non commercial. Toute reproduction, distribution, revente, ou partage – même gratuit – sans autorisation écrite préalable de 3PE Conseil et Excel Power Plus constitue une violation de nos droits et expose l’auteur à des poursuites civiles et pénales, incluant des sanctions financières.

Sheet Saisie Patrimoine
B2: Patrimoine | I2: © 3PE Conseil & Excel Power Plus – Tous droits réservés. Cet outil est une création protégée au titre de la propriété intellectuelle. Il est strictement réservé à un usage personnel et non commercial. Toute reproduction, distribution, revente, ou partage – même gratuit – sans autorisation écrite préalable de 3PE Conseil et Excel Power Plus constitue une violation de nos droits et expose l’auteur à des poursuites civiles et pénales, incluant des sanctions financières.
A4: Saisir votre patrimoine à la fréquence que vous souhaitez
A6: Date | B6: Emplacement | C6: Classe d'actifs | D6: Produits (facultatif) | E6: Montant Net | F6: Montant Brut | G6: Commentaire
B7: BoursoBank - PEA | C7: ETF actions | E7: 10850 | G7: ETF Amundi S&P500
B8: BoursoBank - PEA | C8: ETF actions | E8: 20950 | G8: ETF Ishares World
B9: BoursoBank - PEA | C9: ETF Obligations | E9: 9100 | G9: ETF Obligatons PEA
B10: BoursoBank - PEA | C10: Stock Picking | E10: 1450 | G10: Air liquide
B11: Crédit Agricole - Compte courant | C11: Cash en banque | E11: 10550
B12: Crédit Agricole - Livret A | C12: Epargne | E12: 12100
B13: Linxea - Assurance Vie | C13: Epargne | E13: 1250
B14: Linxea - Assurance Vie | C14: Immo papier | E14: 2700 | G14: SCPI Remake Live
B15: Corum - SCPI en direct | C15: Immo papier | E15: 2000 | G15: SCPI Corum
B16: Trade Republic - CTO | C16: Or | E16: 7200 | G16: Or Papier
B17: AuCoffre - Or en direct | C17: Or | E17: 3000 | G17: Or Papier
B18: Trade Republic - CTO | C18: Stock Picking | E18: 350 | G18: Microsoft
B19: Ledger - Cold wallet | C19: Cryptos | E19: 7950 | G19: Bitcoin
B20: Binance - CEX | C20: Cryptos | E20: 2750 | G20: Bitcoin
B21: Binance - CEX | C21: Cryptos | E21: 310 | G21: Altcoins
B22: Direct - Résidence principale | C22: Immo physique | E22: 28600 | F22: 160000 | G22: Résidence principale
B23: Direct - LMNP | C23: Immo physique | E23: 200 | F23: 35000 | G23: Appart Bordeaux

Sheet Visuel Budget
F2: Mon Budget Mensuel
B6: Barre des filtres | I6: - | M6: = | R6: - | V6: =
F7: ='Aide budget'!Q8 -> 3500 | J7: ='Aide budget'!Q11 -> 1912 | N7: =F7-J7 -> 1588 | S7: ='Aide budget'!Q17 -> 1588 | W7: =N7-S7 -> 0
B11: REVENU
B13: DEPENSE | N13: =1-N19-N16 -> 0.40057143
B15: INVESTISSEMENT
N16: =SUMIF('Saisie Budget-Investissement'!G8:G107,"Loisirs",'Saisie Budget-Investissement'!J8:J107)/F7 -> 0.14571429
N19: =1-(J7/F7) -> 0.45371429
E36: © 3PE Conseil & Excel Power Plus – Tous droits réservés. Cet outil est une création protégée au titre de la propriété intellectuelle. Il est strictement réservé à un usage personnel et non commercial. Toute reproduction, distribution, revente, ou partage – même gratuit – sans autorisation écrite préalable de 3PE Conseil et Excel Power Plus constitue une violation de nos droits et expose l’auteur à des poursuites civiles et pénales, incluant des sanctions financières.

Sheet Visuel Patrimoine
G2: Mon Patrimoine
B5: Barre des filtres
B7: Sélection Grande classe d'actifs
B9: Toutes
B11: Sélection classe d'actifs
B13: Toutes
B15: Sélection produit
B18: Sélection année
B21: Sélection mois
B24: Sélection Patrimoine
B25: Net Brut
B27: Résidence principale?
B28: Oui Non
F37: © 3PE Conseil & Excel Power Plus – Tous droits réservés. Cet outil est une création protégée au titre de la propriété intellectuelle. Il est strictement réservé à un usage personnel et non commercial. Toute reproduction, distribution, revente, ou partage – même gratuit – sans autorisation écrite préalable de 3PE Conseil et Excel Power Plus constitue une violation de nos droits et expose l’auteur à des poursuites civiles et pénales, incluant des sanctions financières.

Sheet Comparaison actuel-cible 
F2: Comparaison Patrimoine Actuel et Cible
B5: Résidence principale?
B6: OUI NON
F111: © 3PE Conseil & Excel Power Plus – Tous droits réservés. Cet outil est une création protégée au titre de la propriété intellectuelle. Il est strictement réservé à un usage personnel et non commercial. Toute reproduction, distribution, revente, ou partage – même gratuit – sans autorisation écrite préalable de 3PE Conseil et Excel Power Plus constitue une violation de nos droits et expose l’auteur à des poursuites civiles et pénales, incluant des sanctions financières.

Sheet SYNTHESE ACTUELLE
G2: Synthèse de mon patrimoine actuel
B9: Résidence principale?
B11: OUI | E11: NON
G36: © 3PE Conseil & Excel Power Plus – Tous droits réservés. Cet outil est une création protégée au titre de la propriété intellectuelle. Il est strictement réservé à un usage personnel et non commercial. Toute reproduction, distribution, revente, ou partage – même gratuit – sans autorisation écrite préalable de 3PE Conseil et Excel Power Plus constitue une violation de nos droits et expose l’auteur à des poursuites civiles et pénales, incluant des sanctions financières.

Sheet SYNTHESE COMPARATIVE
F2: Synthèse comparative
F4: =IF(MAX('Saisie Patrimoine'!A:A)=0,"","ETAT AU "&TEXT(MAX('Saisie Patrimoine'!A:A),"jj/mm/aaaa"))
B7: Résidence principale?
B9: OUI | D9: NON
T34: *: Projection avec inflation hors fiscalité avec rééquilibrage annuel
G37: © 3PE Conseil & Excel Power Plus – Tous droits réservés. Cet outil est une création protégée au titre de la propriété intellectuelle. Il est strictement réservé à un usage personnel et non commercial. Toute reproduction, distribution, revente, ou partage – même gratuit – sans autorisation écrite préalable de 3PE Conseil et Excel Power Plus constitue une violation de nos droits et expose l’auteur à des poursuites civiles et pénales, incluant des sanctions financières.

Sheet Aide budget
A1: 3 | C1: Type de revenu/dépense/invest | D1: Fixe/Variable | E1: Bien/Objet concerné | F1: Montant mensuel actuel | G1: Montant mensuel cible | J1: Type de revenu/dépense/invest | K1: Somme montant | N1: Bien/Objet concerné | O1: Somme montant | Q1: Fixe | R1: Variable | T1: Invest mensuel actuel | U1: Invest mensuel cible | W1: Type de revenu/dépense/invest | X1: Grande classe d'actifs | Y1: Montant mensuel actuel | Z1: Montant mensuel cible | AC1: Grande classe d'actifs | AD1: Montant mensuel actuel | AE1: Montant mensuel cible
C2: =IF(AND($A$1=1,'Saisie Budget-Investissement'!A8<>""),'Saisie Budget-Investissement'!A8,IF(AND($A$1=2,'Saisie Budget-Investissement'!G8<>""),'Saisie Budget-Investissement'!G8,IF('Saisie Budget-Investissement'!M8<>"",'Saisie Budget-Investissement'!M8,""))) -> Stock Picking | D2: =IF(C2="","",IF($A$1=1,'Saisie Budget-Investissement'!B8,IF($A$1=2,'Saisie Budget-Investissement'!H8,'Saisie Budget-Investissement'!O8))) -> Variable | E2: =IF(C2="","",IF($A$1=1,'Saisie Budget-Investissement'!C8,IF($A$1=2,'Saisie Budget-Investissement'!I8,'Saisie Budget-Investissement'!P8))) -> Air liquide | F2: =IF(C2="","",IF($A$1=1,'Saisie Budget-Investissement'!D8,IF($A$1=2,'Saisie Budget-Investissement'!J8,'Saisie Budget-Investissement'!Q8))) -> 50 | G2: =IF(C2="","",IF($A$1=1,'Saisie Budget-Investissement'!E8,IF($A$1=2,'Saisie Budget-Investissement'!K8,'Saisie Budget-Investissement'!R8))) -> 50 | J2: {=IFERROR(INDEX($C$1:$C$101,MATCH(0,COUNTIF($J$1:J1,$C$1:$C$101),0)),"")} -> Stock Picking | K2: =IF(J2="",NA(),IF(SUMIF(C:C,'Aide budget'!J2,F:F)=0,NA(),SUMIF(C:C,'Aide budget'!J2,F:F))) -> 100 | N2: {=IFERROR(INDEX($E$1:$E$101,MATCH(0,COUNTIF($N$1:N1,$E$1:$E$101),0)),"")} -> Air liquide | O2: =IF(N2="",#N/A,IF(SUMIF(E:E,N2,F:F)=0,0,SUMIF(E:E,N2,F:F))) -> 50 | Q2: =IF(SUMIF(D:D,"Fixe",F:F)=0,#N/A,SUMIF(D:D,"Fixe",F:F)) -> 1413 | R2: =IF(SUMIF(D:D,"Variable",F:F)=0,#N/A,SUMIF(D:D,"Variable",F:F)) -> 175 | T2: =IF(SUM('Saisie Budget-Investissement'!Q8:Q1048576)="","",SUM('Saisie Budget-Investissement'!Q8:Q1048576)) -> 1588 | U2: =IF(SUM('Saisie Budget-Investissement'!R8:R1048576)="","",SUM('Saisie Budget-Investissement'!R8:R1048576)) -> 2388 | W2: =IF('Saisie Budget-Investissement'!M8="","",'Saisie Budget-Investissement'!M8) -> Stock Picking | X2: =INDEX('Liste Classe d''actifs'!$A$8:$A$37, MATCH(W2,'Liste Classe d''actifs'!$B$8:$B$37,0)) -> Actions | Y2: =IF(W2="","",'Saisie Budget-Investissement'!Q8) -> 50 | Z2: =IF(W2="","",'Saisie Budget-Investissement'!R8) -> 50 | AC2: Liquidités | AD2: =IF(AC2="",#N/A,IF(ISERROR(VLOOKUP(AC2,X:X,1,FALSE)),#N/A,IF(SUMIF(X:X,AC2,Y:Y)=0,#N/A,SUMIF(X:X,AC2,Y:Y)))) -> 163 | AE2: =IF(AC2="",#N/A,IF(ISERROR(VLOOKUP(AC2,X:X,1,FALSE)),#N/A,IF(SUMIF(X:X,AC2,Z:Z)=0,#N/A,SUMIF(X:X,AC2,Z:Z)))) -> 188 | AI2: =IF(AC2="",NA(),IF(SUMIF(X:X,AC2,Y:Y)=0,NA(),SUMIF(X:X,AC2,Y:Y))) -> 163
C3: =IF(AND($A$1=1,'Saisie Budget-Investissement'!A9<>""),'Saisie Budget-Investissement'!A9,IF(AND($A$1=2,'Saisie Budget-Investissement'!G9<>""),'Saisie Budget-Investissement'!G9,IF('Saisie Budget-Investissement'!M9<>"",'Saisie Budget-Investissement'!M9,""))) -> Stock Picking | D3: =IF(C3="","",IF($A$1=1,'Saisie Budget-Investissement'!B9,IF($A$1=2,'Saisie Budget-Investissement'!H9,'Saisie Budget-Investissement'!O9))) -> Fixe | E3: =IF(C3="","",IF($A$1=1,'Saisie Budget-Investissement'!C9,IF($A$1=2,'Saisie Budget-Investissement'!I9,'Saisie Budget-Investissement'!P9))) -> Microsoft | F3: =IF(C3="","",IF($A$1=1,'Saisie Budget-Investissement'!D9,IF($A$1=2,'Saisie Budget-Investissement'!J9,'Saisie Budget-Investissement'!Q9))) -> 50 | G3: =IF(C3="","",IF($A$1=1,'Saisie Budget-Investissement'!E9,IF($A$1=2,'Saisie Budget-Investissement'!K9,'Saisie Budget-Investissement'!R9))) -> 100 | J3: {=IFERROR(INDEX($C$1:$C$101,MATCH(0,COUNTIF($J$1:J2,$C$1:$C$101),0)),"")} -> ETF actions | K3: =IF(J3="",NA(),IF(SUMIF(C:C,'Aide budget'!J3,F:F)=0,NA(),SUMIF(C:C,'Aide budget'!J3,F:F))) -> 150 | N3: {=IFERROR(INDEX($E$1:$E$101,MATCH(0,COUNTIF($N$1:N2,$E$1:$E$101),0)),"")} -> Microsoft | O3: =IF(N3="",#N/A,IF(SUMIF(E:E,N3,F:F)=0,0,SUMIF(E:E,N3,F:F))) -> 50 | W3: =IF('Saisie Budget-Investissement'!M9="","",'Saisie Budget-Investissement'!M9) -> Stock Picking | X3: =INDEX('Liste Classe d''actifs'!$A$8:$A$37, MATCH(W3,'Liste Classe d''actifs'!$B$8:$B$37,0)) -> Actions | Y3: =IF(W3="","",'Saisie Budget-Investissement'!Q9) -> 50 | Z3: =IF(W3="","",'Saisie Budget-Investissement'!R9) -> 100 | AC3: Obligations | AD3: =IF(AC3="",#N/A,IF(ISERROR(VLOOKUP(AC3,X:X,1,FALSE)),#N/A,IF(SUMIF(X:X,AC3,Y:Y)=0,#N/A,SUMIF(X:X,AC3,Y:Y)))) -> #N/A | AE3: =IF(AC3="",#N/A,IF(ISERROR(VLOOKUP(AC3,X:X,1,FALSE)),#N/A,IF(SUMIF(X:X,AC3,Z:Z)=0,#N/A,SUMIF(X:X,AC3,Z:Z)))) -> 200
C4: =IF(AND($A$1=1,'Saisie Budget-Investissement'!A10<>""),'Saisie Budget-Investissement'!A10,IF(AND($A$1=2,'Saisie Budget-Investissement'!G10<>""),'Saisie Budget-Investissement'!G10,IF('Saisie Budget-Investissement'!M10<>"",'Saisie Budget-Investissement'!M10,""))) -> ETF actions | D4: =IF(C4="","",IF($A$1=1,'Saisie Budget-Investissement'!B10,IF($A$1=2,'Saisie Budget-Investissement'!H10,'Saisie Budget-Investissement'!O10))) -> Fixe | E4: =IF(C4="","",IF($A$1=1,'Saisie Budget-Investissement'!C10,IF($A$1=2,'Saisie Budget-Investissement'!I10,'Saisie Budget-Investissement'!P10))) -> ETF Ishares World | F4: =IF(C4="","",IF($A$1=1,'Saisie Budget-Investissement'!D10,IF($A$1=2,'Saisie Budget-Investissement'!J10,'Saisie Budget-Investissement'!Q10))) -> 150 | G4: =IF(C4="","",IF($A$1=1,'Saisie Budget-Investissement'!E10,IF($A$1=2,'Saisie Budget-Investissement'!K10,'Saisie Budget-Investissement'!R10))) -> 300 | J4: {=IFERROR(INDEX($C$1:$C$101,MATCH(0,COUNTIF($J$1:J3,$C$1:$C$101),0)),"")} -> Cryptos | K4: =IF(J4="",NA(),IF(SUMIF(C:C,'Aide budget'!J4,F:F)=0,NA(),SUMIF(C:C,'Aide budget'!J4,F:F))) -> 125 | N4: {=IFERROR(INDEX($E$1:$E$101,MATCH(0,COUNTIF($N$1:N3,$E$1:$E$101),0)),"")} -> ETF Ishares World | O4: =IF(N4="",#N/A,IF(SUMIF(E:E,N4,F:F)=0,0,SUMIF(E:E,N4,F:F))) -> 150 | Q4: Montant actuel | R4: Montant cible | W4: =IF('Saisie Budget-Investissement'!M10="","",'Saisie Budget-Investissement'!M10) -> ETF actions | X4: =INDEX('Liste Classe d''actifs'!$A$8:$A$37, MATCH(W4,'Liste Classe d''actifs'!$B$8:$B$37,0)) -> Actions | Y4: =IF(W4="","",'Saisie Budget-Investissement'!Q10) -> 150 | Z4: =IF(W4="","",'Saisie Budget-Investissement'!R10) -> 300 | AC4: Immobilier | AD4: =IF(AC4="",#N/A,IF(ISERROR(VLOOKUP(AC4,X:X,1,FALSE)),#N/A,IF(SUMIF(X:X,AC4,Y:Y)=0,#N/A,SUMIF(X:X,AC4,Y:Y)))) -> 850 | AE4: =IF(AC4="",#N/A,IF(ISERROR(VLOOKUP(AC4,X:X,1,FALSE)),#N/A,IF(SUMIF(X:X,AC4,Z:Z)=0,#N/A,SUMIF(X:X,AC4,Z:Z)))) -> 1050
C5: =IF(AND($A$1=1,'Saisie Budget-Investissement'!A11<>""),'Saisie Budget-Investissement'!A11,IF(AND($A$1=2,'Saisie Budget-Investissement'!G11<>""),'Saisie Budget-Investissement'!G11,IF('Saisie Budget-Investissement'!M11<>"",'Saisie Budget-Investissement'!M11,""))) -> Cryptos | D5: =IF(C5="","",IF($A$1=1,'Saisie Budget-Investissement'!B11,IF($A$1=2,'Saisie Budget-Investissement'!H11,'Saisie Budget-Investissement'!O11))) -> Variable | E5: =IF(C5="","",IF($A$1=1,'Saisie Budget-Investissement'!C11,IF($A$1=2,'Saisie Budget-Investissement'!I11,'Saisie Budget-Investissement'!P11))) -> Bitcoin | F5: =IF(C5="","",IF($A$1=1,'Saisie Budget-Investissement'!D11,IF($A$1=2,'Saisie Budget-Investissement'!J11,'Saisie Budget-Investissement'!Q11))) -> 75 | G5: =IF(C5="","",IF($A$1=1,'Saisie Budget-Investissement'!E11,IF($A$1=2,'Saisie Budget-Investissement'!K11,'Saisie Budget-Investissement'!R11))) -> 150 | J5: {=IFERROR(INDEX($C$1:$C$101,MATCH(0,COUNTIF($J$1:J4,$C$1:$C$101),0)),"")} -> Or | K5: =IF(J5="",NA(),IF(SUMIF(C:C,'Aide budget'!J5,F:F)=0,NA(),SUMIF(C:C,'Aide budget'!J5,F:F))) -> 200 | N5: {=IFERROR(INDEX($E$1:$E$101,MATCH(0,COUNTIF($N$1:N4,$E$1:$E$101),0)),"")} -> Bitcoin | O5: =IF(N5="",#N/A,IF(SUMIF(E:E,N5,F:F)=0,0,SUMIF(E:E,N5,F:F))) -> 75 | Q5: =SUM(F:F) -> 1588 | R5: =SUM(G:G) -> 2388 | W5: =IF('Saisie Budget-Investissement'!M11="","",'Saisie Budget-Investissement'!M11) -> Cryptos | X5: =INDEX('Liste Classe d''actifs'!$A$8:$A$37, MATCH(W5,'Liste Classe d''actifs'!$B$8:$B$37,0)) -> Alternatifs/Exotiques | Y5: =IF(W5="","",'Saisie Budget-Investissement'!Q11) -> 75 | Z5: =IF(W5="","",'Saisie Budget-Investissement'!R11) -> 150 | AC5: Actions | AD5: =IF(AC5="",#N/A,IF(ISERROR(VLOOKUP(AC5,X:X,1,FALSE)),#N/A,IF(SUMIF(X:X,AC5,Y:Y)=0,#N/A,SUMIF(X:X,AC5,Y:Y)))) -> 250 | AE5: =IF(AC5="",#N/A,IF(ISERROR(VLOOKUP(AC5,X:X,1,FALSE)),#N/A,IF(SUMIF(X:X,AC5,Z:Z)=0,#N/A,SUMIF(X:X,AC5,Z:Z)))) -> 550
C6: =IF(AND($A$1=1,'Saisie Budget-Investissement'!A12<>""),'Saisie Budget-Investissement'!A12,IF(AND($A$1=2,'Saisie Budget-Investissement'!G12<>""),'Saisie Budget-Investissement'!G12,IF('Saisie Budget-Investissement'!M12<>"",'Saisie Budget-Investissement'!M12,""))) -> Cryptos | D6: =IF(C6="","",IF($A$1=1,'Saisie Budget-Investissement'!B12,IF($A$1=2,'Saisie Budget-Investissement'!H12,'Saisie Budget-Investissement'!O12))) -> Variable | E6: =IF(C6="","",IF($A$1=1,'Saisie Budget-Investissement'!C12,IF($A$1=2,'Saisie Budget-Investissement'!I12,'Saisie Budget-Investissement'!P12))) -> Altcoins | F6: =IF(C6="","",IF($A$1=1,'Saisie Budget-Investissement'!D12,IF($A$1=2,'Saisie Budget-Investissement'!J12,'Saisie Budget-Investissement'!Q12))) -> 50 | G6: =IF(C6="","",IF($A$1=1,'Saisie Budget-Investissement'!E12,IF($A$1=2,'Saisie Budget-Investissement'!K12,'Saisie Budget-Investissement'!R12))) -> 50 | J6: {=IFERROR(INDEX($C$1:$C$101,MATCH(0,COUNTIF($J$1:J5,$C$1:$C$101),0)),"")} -> Immo physique | K6: =IF(J6="",NA(),IF(SUMIF(C:C,'Aide budget'!J6,F:F)=0,NA(),SUMIF(C:C,'Aide budget'!J6,F:F))) -> 650 | N6: {=IFERROR(INDEX($E$1:$E$101,MATCH(0,COUNTIF($N$1:N5,$E$1:$E$101),0)),"")} -> Altcoins | O6: =IF(N6="",#N/A,IF(SUMIF(E:E,N6,F:F)=0,0,SUMIF(E:E,N6,F:F))) -> 50 | W6: =IF('Saisie Budget-Investissement'!M12="","",'Saisie Budget-Investissement'!M12) -> Cryptos | X6: =INDEX('Liste Classe d''actifs'!$A$8:$A$37, MATCH(W6,'Liste Classe d''actifs'!$B$8:$B$37,0)) -> Alternatifs/Exotiques | Y6: =IF(W6="","",'Saisie Budget-Investissement'!Q12) -> 50 | Z6: =IF(W6="","",'Saisie Budget-Investissement'!R12) -> 50 | AC6: Alternatifs/Exotiques | AD6: =IF(AC6="",#N/A,IF(ISERROR(VLOOKUP(AC6,X:X,1,FALSE)),#N/A,IF(SUMIF(X:X,AC6,Y:Y)=0,#N/A,SUMIF(X:X,AC6,Y:Y)))) -> 325 | AE6: =IF(AC6="",#N/A,IF(ISERROR(VLOOKUP(AC6,X:X,1,FALSE)),#N/A,IF(SUMIF(X:X,AC6,Z:Z)=0,#N/A,SUMIF(X:X,AC6,Z:Z)))) -> 400
C7: =IF(AND($A$1=1,'Saisie Budget-Investissement'!A13<>""),'Saisie Budget-Investissement'!A13,IF(AND($A$1=2,'Saisie Budget-Investissement'!G13<>""),'Saisie Budget-Investissement'!G13,IF('Saisie Budget-Investissement'!M13<>"",'Saisie Budget-Investissement'!M13,""))) -> Or | D7: =IF(C7="","",IF($A$1=1,'Saisie Budget-Investissement'!B13,IF($A$1=2,'Saisie Budget-Investissement'!H13,'Saisie Budget-Investissement'!O13))) -> Fixe | E7: =IF(C7="","",IF($A$1=1,'Saisie Budget-Investissement'!C13,IF($A$1=2,'Saisie Budget-Investissement'!I13,'Saisie Budget-Investissement'!P13))) -> Or Papier | F7: =IF(C7="","",IF($A$1=1,'Saisie Budget-Investissement'!D13,IF($A$1=2,'Saisie Budget-Investissement'!J13,'Saisie Budget-Investissement'!Q13))) -> 200 | G7: =IF(C7="","",IF($A$1=1,'Saisie Budget-Investissement'!E13,IF($A$1=2,'Saisie Budget-Investissement'!K13,'Saisie Budget-Investissement'!R13))) -> 200 | J7: {=IFERROR(INDEX($C$1:$C$101,MATCH(0,COUNTIF($J$1:J6,$C$1:$C$101),0)),"")} -> Immo papier | K7: =IF(J7="",NA(),IF(SUMIF(C:C,'Aide budget'!J7,F:F)=0,NA(),SUMIF(C:C,'Aide budget'!J7,F:F))) -> 200 | N7: {=IFERROR(INDEX($E$1:$E$101,MATCH(0,COUNTIF($N$1:N6,$E$1:$E$101),0)),"")} -> Or Papier | O7: =IF(N7="",#N/A,IF(SUMIF(E:E,N7,F:F)=0,0,SUMIF(E:E,N7,F:F))) -> 200 | Q7: Total Revenu | W7: =IF('Saisie Budget-Investissement'!M13="","",'Saisie Budget-Investissement'!M13) -> Or | X7: =INDEX('Liste Classe d''actifs'!$A$8:$A$37, MATCH(W7,'Liste Classe d''actifs'!$B$8:$B$37,0)) -> Alternatifs/Exotiques | Y7: =IF(W7="","",'Saisie Budget-Investissement'!Q13) -> 200 | Z7: =IF(W7="","",'Saisie Budget-Investissement'!R13) -> 200 | AC7: Autres | AD7: =IF(AC7="",#N/A,IF(ISERROR(VLOOKUP(AC7,X:X,1,FALSE)),#N/A,IF(SUMIF(X:X,AC7,Y:Y)=0,#N/A,SUMIF(X:X,AC7,Y:Y)))) -> #N/A | AE7: =IF(AC7="",#N/A,IF(ISERROR(VLOOKUP(AC7,X:X,1,FALSE)),#N/A,IF(SUMIF(X:X,AC7,Z:Z)=0,#N/A,SUMIF(X:X,AC7,Z:Z)))) -> #N/A
C8: =IF(AND($A$1=1,'Saisie Budget-Investissement'!A14<>""),'Saisie Budget-Investissement'!A14,IF(AND($A$1=2,'Saisie Budget-Investissement'!G14<>""),'Saisie Budget-Investissement'!G14,IF('Saisie Budget-Investissement'!M14<>"",'Saisie Budget-Investissement'!M14,""))) -> Immo physique | D8: =IF(C8="","",IF($A$1=1,'Saisie Budget-Investissement'!B14,IF($A$1=2,'Saisie Budget-Investissement'!H14,'Saisie Budget-Investissement'!O14))) -> Fixe | E8: =IF(C8="","",IF($A$1=1,'Saisie Budget-Investissement'!C14,IF($A$1=2,'Saisie Budget-Investissement'!I14,'Saisie Budget-Investissement'!P14))) -> Résidence principale | F8: =IF(C8="","",IF($A$1=1,'Saisie Budget-Investissement'!D14,IF($A$1=2,'Saisie Budget-Investissement'!J14,'Saisie Budget-Investissement'!Q14))) -> 450 | G8: =IF(C8="","",IF($A$1=1,'Saisie Budget-Investissement'!E14,IF($A$1=2,'Saisie Budget-Investissement'!K14,'Saisie Budget-Investissement'!R14))) -> 450 | J8: {=IFERROR(INDEX($C$1:$C$101,MATCH(0,COUNTIF($J$1:J7,$C$1:$C$101),0)),"")} -> Cash en banque | K8: =IF(J8="",NA(),IF(SUMIF(C:C,'Aide budget'!J8,F:F)=0,NA(),SUMIF(C:C,'Aide budget'!J8,F:F))) -> 163 | N8: {=IFERROR(INDEX($E$1:$E$101,MATCH(0,COUNTIF($N$1:N7,$E$1:$E$101),0)),"")} -> Résidence principale | O8: =IF(N8="",#N/A,IF(SUMIF(E:E,N8,F:F)=0,0,SUMIF(E:E,N8,F:F))) -> 450 | Q8: =SUM('Saisie Budget-Investissement'!D8:D107) -> 3500 | W8: =IF('Saisie Budget-Investissement'!M14="","",'Saisie Budget-Investissement'!M14) -> Immo physique | X8: =INDEX('Liste Classe d''actifs'!$A$8:$A$37, MATCH(W8,'Liste Classe d''actifs'!$B$8:$B$37,0)) -> Immobilier | Y8: =IF(W8="","",'Saisie Budget-Investissement'!Q14) -> 450 | Z8: =IF(W8="","",'Saisie Budget-Investissement'!R14) -> 450 | AC8: 0 | AD8: =IF(AC8="",#N/A,IF(ISERROR(VLOOKUP(AC8,X:X,1,FALSE)),#N/A,IF(SUMIF(X:X,AC8,Y:Y)=0,#N/A,SUMIF(X:X,AC8,Y:Y)))) -> #N/A | AE8: =IF(AC8="",#N/A,IF(ISERROR(VLOOKUP(AC8,X:X,1,FALSE)),#N/A,IF(SUMIF(X:X,AC8,Z:Z)=0,#N/A,SUMIF(X:X,AC8,Z:Z)))) -> #N/A
C9: =IF(AND($A$1=1,'Saisie Budget-Investissement'!A15<>""),'Saisie Budget-Investissement'!A15,IF(AND($A$1=2,'Saisie Budget-Investissement'!G15<>""),'Saisie Budget-Investissement'!G15,IF('Saisie Budget-Investissement'!M15<>"",'Saisie Budget-Investissement'!M15,""))) -> Immo papier | D9: =IF(C9="","",IF($A$1=1,'Saisie Budget-Investissement'!B15,IF($A$1=2,'Saisie Budget-Investissement'!H15,'Saisie Budget-Investissement'!O15))) -> Fixe | E9: =IF(C9="","",IF($A$1=1,'Saisie Budget-Investissement'!C15,IF($A$1=2,'Saisie Budget-Investissement'!I15,'Saisie Budget-Investissement'!P15))) -> SCPI Remake Live | F9: =IF(C9="","",IF($A$1=1,'Saisie Budget-Investissement'!D15,IF($A$1=2,'Saisie Budget-Investissement'!J15,'Saisie Budget-Investissement'!Q15))) -> 200 | G9: =IF(C9="","",IF($A$1=1,'Saisie Budget-Investissement'!E15,IF($A$1=2,'Saisie Budget-Investissement'!K15,'Saisie Budget-Investissement'!R15))) -> 400 | J9: {=IFERROR(INDEX($C$1:$C$101,MATCH(0,COUNTIF($J$1:J8,$C$1:$C$101),0)),"")} -> ETF Obligations | K9: =IF(J9="",NA(),IF(SUMIF(C:C,'Aide budget'!J9,F:F)=0,NA(),SUMIF(C:C,'Aide budget'!J9,F:F))) -> #N/A | N9: {=IFERROR(INDEX($E$1:$E$101,MATCH(0,COUNTIF($N$1:N8,$E$1:$E$101),0)),"")} -> SCPI Remake Live | O9: =IF(N9="",#N/A,IF(SUMIF(E:E,N9,F:F)=0,0,SUMIF(E:E,N9,F:F))) -> 200 | W9: =IF('Saisie Budget-Investissement'!M15="","",'Saisie Budget-Investissement'!M15) -> Immo papier | X9: =INDEX('Liste Classe d''actifs'!$A$8:$A$37, MATCH(W9,'Liste Classe d''actifs'!$B$8:$B$37,0)) -> Immobilier | Y9: =IF(W9="","",'Saisie Budget-Investissement'!Q15) -> 200 | Z9: =IF(W9="","",'Saisie Budget-Investissement'!R15) -> 400
C10: =IF(AND($A$1=1,'Saisie Budget-Investissement'!A16<>""),'Saisie Budget-Investissement'!A16,IF(AND($A$1=2,'Saisie Budget-Investissement'!G16<>""),'Saisie Budget-Investissement'!G16,IF('Saisie Budget-Investissement'!M16<>"",'Saisie Budget-Investissement'!M16,""))) -> Cash en banque | D10: =IF(C10="","",IF($A$1=1,'Saisie Budget-Investissement'!B16,IF($A$1=2,'Saisie Budget-Investissement'!H16,'Saisie Budget-Investissement'!O16))) -> Fixe | E10: =IF(C10="","",IF($A$1=1,'Saisie Budget-Investissement'!C16,IF($A$1=2,'Saisie Budget-Investissement'!I16,'Saisie Budget-Investissement'!P16))) -> 0 | F10: =IF(C10="","",IF($A$1=1,'Saisie Budget-Investissement'!D16,IF($A$1=2,'Saisie Budget-Investissement'!J16,'Saisie Budget-Investissement'!Q16))) -> 163 | G10: =IF(C10="","",IF($A$1=1,'Saisie Budget-Investissement'!E16,IF($A$1=2,'Saisie Budget-Investissement'!K16,'Saisie Budget-Investissement'!R16))) -> 188 | J10: {=IFERROR(INDEX($C$1:$C$101,MATCH(0,COUNTIF($J$1:J9,$C$1:$C$101),0)),"")} | K10: =IF(J10="",NA(),IF(SUMIF(C:C,'Aide budget'!J10,F:F)=0,NA(),SUMIF(C:C,'Aide budget'!J10,F:F))) -> #N/A | N10: {=IFERROR(INDEX($E$1:$E$101,MATCH(0,COUNTIF($N$1:N9,$E$1:$E$101),0)),"")} -> 0 | O10: =IF(N10="",#N/A,IF(SUMIF(E:E,N10,F:F)=0,0,SUMIF(E:E,N10,F:F))) -> 163 | Q10: Total Dépense | W10: =IF('Saisie Budget-Investissement'!M16="","",'Saisie Budget-Investissement'!M16) -> Cash en banque | X10: =INDEX('Liste Classe d''actifs'!$A$8:$A$37, MATCH(W10,'Liste Classe d''actifs'!$B$8:$B$37,0)) -> Liquidités | Y10: =IF(W10="","",'Saisie Budget-Investissement'!Q16) -> 163 | Z10: =IF(W10="","",'Saisie Budget-Investissement'!R16) -> 188
C11: =IF(AND($A$1=1,'Saisie Budget-Investissement'!A17<>""),'Saisie Budget-Investissement'!A17,IF(AND($A$1=2,'Saisie Budget-Investissement'!G17<>""),'Saisie Budget-Investissement'!G17,IF('Saisie Budget-Investissement'!M17<>"",'Saisie Budget-Investissement'!M17,""))) -> Stock Picking | D11: =IF(C11="","",IF($A$1=1,'Saisie Budget-Investissement'!B17,IF($A$1=2,'Saisie Budget-Investissement'!H17,'Saisie Budget-Investissement'!O17))) -> Fixe | E11: =IF(C11="","",IF($A$1=1,'Saisie Budget-Investissement'!C17,IF($A$1=2,'Saisie Budget-Investissement'!I17,'Saisie Budget-Investissement'!P17))) -> TotalEnergies | F11: =IF(C11="","",IF($A$1=1,'Saisie Budget-Investissement'!D17,IF($A$1=2,'Saisie Budget-Investissement'!J17,'Saisie Budget-Investissement'!Q17))) -> 0 | G11: =IF(C11="","",IF($A$1=1,'Saisie Budget-Investissement'!E17,IF($A$1=2,'Saisie Budget-Investissement'!K17,'Saisie Budget-Investissement'!R17))) -> 100 | J11: {=IFERROR(INDEX($C$1:$C$101,MATCH(0,COUNTIF($J$1:J10,$C$1:$C$101),0)),"")} | K11: =IF(J11="",NA(),IF(SUMIF(C:C,'Aide budget'!J11,F:F)=0,NA(),SUMIF(C:C,'Aide budget'!J11,F:F))) -> #N/A | N11: {=IFERROR(INDEX($E$1:$E$101,MATCH(0,COUNTIF($N$1:N10,$E$1:$E$101),0)),"")} -> TotalEnergies | O11: =IF(N11="",#N/A,IF(SUMIF(E:E,N11,F:F)=0,0,SUMIF(E:E,N11,F:F))) -> 0 | Q11: =SUM('Saisie Budget-Investissement'!J8:J107) -> 1912 | W11: =IF('Saisie Budget-Investissement'!M17="","",'Saisie Budget-Investissement'!M17) -> Stock Picking | X11: =INDEX('Liste Classe d''actifs'!$A$8:$A$37, MATCH(W11,'Liste Classe d''actifs'!$B$8:$B$37,0)) -> Actions | Y11: =IF(W11="","",'Saisie Budget-Investissement'!Q17) -> 0 | Z11: =IF(W11="","",'Saisie Budget-Investissement'!R17) -> 100
C12: =IF(AND($A$1=1,'Saisie Budget-Investissement'!A18<>""),'Saisie Budget-Investissement'!A18,IF(AND($A$1=2,'Saisie Budget-Investissement'!G18<>""),'Saisie Budget-Investissement'!G18,IF('Saisie Budget-Investissement'!M18<>"",'Saisie Budget-Investissement'!M18,""))) -> Immo physique | D12: =IF(C12="","",IF($A$1=1,'Saisie Budget-Investissement'!B18,IF($A$1=2,'Saisie Budget-Investissement'!H18,'Saisie Budget-Investissement'!O18))) -> Fixe | E12: =IF(C12="","",IF($A$1=1,'Saisie Budget-Investissement'!C18,IF($A$1=2,'Saisie Budget-Investissement'!I18,'Saisie Budget-Investissement'!P18))) -> Appart Bordeaux | F12: =IF(C12="","",IF($A$1=1,'Saisie Budget-Investissement'!D18,IF($A$1=2,'Saisie Budget-Investissement'!J18,'Saisie Budget-Investissement'!Q18))) -> 200 | G12: =IF(C12="","",IF($A$1=1,'Saisie Budget-Investissement'!E18,IF($A$1=2,'Saisie Budget-Investissement'!K18,'Saisie Budget-Investissement'!R18))) -> 200 | J12: {=IFERROR(INDEX($C$1:$C$101,MATCH(0,COUNTIF($J$1:J11,$C$1:$C$101),0)),"")} | K12: =IF(J12="",NA(),IF(SUMIF(C:C,'Aide budget'!J12,F:F)=0,NA(),SUMIF(C:C,'Aide budget'!J12,F:F))) -> #N/A | N12: {=IFERROR(INDEX($E$1:$E$101,MATCH(0,COUNTIF($N$1:N11,$E$1:$E$101),0)),"")} -> Appart Bordeaux | O12: =IF(N12="",#N/A,IF(SUMIF(E:E,N12,F:F)=0,0,SUMIF(E:E,N12,F:F))) -> 200 | W12: =IF('Saisie Budget-Investissement'!M18="","",'Saisie Budget-Investissement'!M18) -> Immo physique | X12: =INDEX('Liste Classe d''actifs'!$A$8:$A$37, MATCH(W12,'Liste Classe d''actifs'!$B$8:$B$37,0)) -> Immobilier | Y12: =IF(W12="","",'Saisie Budget-Investissement'!Q18) -> 200 | Z12: =IF(W12="","",'Saisie Budget-Investissement'!R18) -> 200
C13: =IF(AND($A$1=1,'Saisie Budget-Investissement'!A19<>""),'Saisie Budget-Investissement'!A19,IF(AND($A$1=2,'Saisie Budget-Investissement'!G19<>""),'Saisie Budget-Investissement'!G19,IF('Saisie Budget-Investissement'!M19<>"",'Saisie Budget-Investissement'!M19,""))) -> ETF Obligations | D13: =IF(C13="","",IF($A$1=1,'Saisie Budget-Investissement'!B19,IF($A$1=2,'Saisie Budget-Investissement'!H19,'Saisie Budget-Investissement'!O19))) -> Fixe | E13: =IF(C13="","",IF($A$1=1,'Saisie Budget-Investissement'!C19,IF($A$1=2,'Saisie Budget-Investissement'!I19,'Saisie Budget-Investissement'!P19))) -> ETF Obligatons PEA | F13: =IF(C13="","",IF($A$1=1,'Saisie Budget-Investissement'!D19,IF($A$1=2,'Saisie Budget-Investissement'!J19,'Saisie Budget-Investissement'!Q19))) -> 0 | G13: =IF(C13="","",IF($A$1=1,'Saisie Budget-Investissement'!E19,IF($A$1=2,'Saisie Budget-Investissement'!K19,'Saisie Budget-Investissement'!R19))) -> 200 | J13: {=IFERROR(INDEX($C$1:$C$101,MATCH(0,COUNTIF($J$1:J12,$C$1:$C$101),0)),"")} | K13: =IF(J13="",NA(),IF(SUMIF(C:C,'Aide budget'!J13,F:F)=0,NA(),SUMIF(C:C,'Aide budget'!J13,F:F))) -> #N/A | N13: {=IFERROR(INDEX($E$1:$E$101,MATCH(0,COUNTIF($N$1:N12,$E$1:$E$101),0)),"")} -> ETF Obligatons PEA | O13: =IF(N13="",#N/A,IF(SUMIF(E:E,N13,F:F)=0,0,SUMIF(E:E,N13,F:F))) -> 0 | Q13: Solde avant investissement | W13: =IF('Saisie Budget-Investissement'!M19="","",'Saisie Budget-Investissement'!M19) -> ETF Obligations | X13: =INDEX('Liste Classe d''actifs'!$A$8:$A$37, MATCH(W13,'Liste Classe d''actifs'!$B$8:$B$37,0)) -> Obligations | Y13: =IF(W13="","",'Saisie Budget-Investissement'!Q19) -> 0 | Z13: =IF(W13="","",'Saisie Budget-Investissement'!R19) -> 200
C14: =IF(AND($A$1=1,'Saisie Budget-Investissement'!A20<>""),'Saisie Budget-Investissement'!A20,IF(AND($A$1=2,'Saisie Budget-Investissement'!G20<>""),'Saisie Budget-Investissement'!G20,IF('Saisie Budget-Investissement'!M20<>"",'Saisie Budget-Investissement'!M20,""))) | D14: =IF(C14="","",IF($A$1=1,'Saisie Budget-Investissement'!B20,IF($A$1=2,'Saisie Budget-Investissement'!H20,'Saisie Budget-Investissement'!O20))) | E14: =IF(C14="","",IF($A$1=1,'Saisie Budget-Investissement'!C20,IF($A$1=2,'Saisie Budget-Investissement'!I20,'Saisie Budget-Investissement'!P20))) | F14: =IF(C14="","",IF($A$1=1,'Saisie Budget-Investissement'!D20,IF($A$1=2,'Saisie Budget-Investissement'!J20,'Saisie Budget-Investissement'!Q20))) | G14: =IF(C14="","",IF($A$1=1,'Saisie Budget-Investissement'!E20,IF($A$1=2,'Saisie Budget-Investissement'!K20,'Saisie Budget-Investissement'!R20))) | J14: {=IFERROR(INDEX($C$1:$C$101,MATCH(0,COUNTIF($J$1:J13,$C$1:$C$101),0)),"")} | K14: =IF(J14="",NA(),IF(SUMIF(C:C,'Aide budget'!J14,F:F)=0,NA(),SUMIF(C:C,'Aide budget'!J14,F:F))) -> #N/A | N14: {=IFERROR(INDEX($E$1:$E$101,MATCH(0,COUNTIF($N$1:N13,$E$1:$E$101),0)),"")} | O14: =IF(N14="",#N/A,IF(SUMIF(E:E,N14,F:F)=0,0,SUMIF(E:E,N14,F:F))) -> #N/A | Q14: =Q8-Q11 -> 1588 | W14: =IF('Saisie Budget-Investissement'!M20="","",'Saisie Budget-Investissement'!M20) | X14: =INDEX('Liste Classe d''actifs'!$A$8:$A$37, MATCH(W14,'Liste Classe d''actifs'!$B$8:$B$37,0)) -> #N/A | Y14: =IF(W14="","",'Saisie Budget-Investissement'!Q20) | Z14: =IF(W14="","",'Saisie Budget-Investissement'!R20)
C15: =IF(AND($A$1=1,'Saisie Budget-Investissement'!A21<>""),'Saisie Budget-Investissement'!A21,IF(AND($A$1=2,'Saisie Budget-Investissement'!G21<>""),'Saisie Budget-Investissement'!G21,IF('Saisie Budget-Investissement'!M21<>"",'Saisie Budget-Investissement'!M21,""))) | D15: =IF(C15="","",IF($A$1=1,'Saisie Budget-Investissement'!B21,IF($A$1=2,'Saisie Budget-Investissement'!H21,'Saisie Budget-Investissement'!O21))) | E15: =IF(C15="","",IF($A$1=1,'Saisie Budget-Investissement'!C21,IF($A$1=2,'Saisie Budget-Investissement'!I21,'Saisie Budget-Investissement'!P21))) | F15: =IF(C15="","",IF($A$1=1,'Saisie Budget-Investissement'!D21,IF($A$1=2,'Saisie Budget-Investissement'!J21,'Saisie Budget-Investissement'!Q21))) | G15: =IF(C15="","",IF($A$1=1,'Saisie Budget-Investissement'!E21,IF($A$1=2,'Saisie Budget-Investissement'!K21,'Saisie Budget-Investissement'!R21))) | J15: {=IFERROR(INDEX($C$1:$C$101,MATCH(0,COUNTIF($J$1:J14,$C$1:$C$101),0)),"")} | K15: =IF(J15="",NA(),IF(SUMIF(C:C,'Aide budget'!J15,F:F)=0,NA(),SUMIF(C:C,'Aide budget'!J15,F:F))) -> #N/A | N15: {=IFERROR(INDEX($E$1:$E$101,MATCH(0,COUNTIF($N$1:N14,$E$1:$E$101),0)),"")} | O15: =IF(N15="",#N/A,IF(SUMIF(E:E,N15,F:F)=0,0,SUMIF(E:E,N15,F:F))) -> #N/A | W15: =IF('Saisie Budget-Investissement'!M21="","",'Saisie Budget-Investissement'!M21) | X15: =INDEX('Liste Classe d''actifs'!$A$8:$A$37, MATCH(W15,'Liste Classe d''actifs'!$B$8:$B$37,0)) -> #N/A | Y15: =IF(W15="","",'Saisie Budget-Investissement'!Q21) | Z15: =IF(W15="","",'Saisie Budget-Investissement'!R21)
C16: =IF(AND($A$1=1,'Saisie Budget-Investissement'!A22<>""),'Saisie Budget-Investissement'!A22,IF(AND($A$1=2,'Saisie Budget-Investissement'!G22<>""),'Saisie Budget-Investissement'!G22,IF('Saisie Budget-Investissement'!M22<>"",'Saisie Budget-Investissement'!M22,""))) | D16: =IF(C16="","",IF($A$1=1,'Saisie Budget-Investissement'!B22,IF($A$1=2,'Saisie Budget-Investissement'!H22,'Saisie Budget-Investissement'!O22))) | E16: =IF(C16="","",IF($A$1=1,'Saisie Budget-Investissement'!C22,IF($A$1=2,'Saisie Budget-Investissement'!I22,'Saisie Budget-Investissement'!P22))) | F16: =IF(C16="","",IF($A$1=1,'Saisie Budget-Investissement'!D22,IF($A$1=2,'Saisie Budget-Investissement'!J22,'Saisie Budget-Investissement'!Q22))) | G16: =IF(C16="","",IF($A$1=1,'Saisie Budget-Investissement'!E22,IF($A$1=2,'Saisie Budget-Investissement'!K22,'Saisie Budget-Investissement'!R22))) | J16: {=IFERROR(INDEX($C$1:$C$101,MATCH(0,COUNTIF($J$1:J15,$C$1:$C$101),0)),"")} | K16: =IF(J16="",NA(),IF(SUMIF(C:C,'Aide budget'!J16,F:F)=0,NA(),SUMIF(C:C,'Aide budget'!J16,F:F))) -> #N/A | N16: {=IFERROR(INDEX($E$1:$E$101,MATCH(0,COUNTIF($N$1:N15,$E$1:$E$101),0)),"")} | O16: =IF(N16="",#N/A,IF(SUMIF(E:E,N16,F:F)=0,0,SUMIF(E:E,N16,F:F))) -> #N/A | Q16: Total Investissement | W16: =IF('Saisie Budget-Investissement'!M22="","",'Saisie Budget-Investissement'!M22) | X16: =INDEX('Liste Classe d''actifs'!$A$8:$A$37, MATCH(W16,'Liste Classe d''actifs'!$B$8:$B$37,0)) -> #N/A | Y16: =IF(W16="","",'Saisie Budget-Investissement'!Q22) | Z16: =IF(W16="","",'Saisie Budget-Investissement'!R22)
C17: =IF(AND($A$1=1,'Saisie Budget-Investissement'!A23<>""),'Saisie Budget-Investissement'!A23,IF(AND($A$1=2,'Saisie Budget-Investissement'!G23<>""),'Saisie Budget-Investissement'!G23,IF('Saisie Budget-Investissement'!M23<>"",'Saisie Budget-Investissement'!M23,""))) | D17: =IF(C17="","",IF($A$1=1,'Saisie Budget-Investissement'!B23,IF($A$1=2,'Saisie Budget-Investissement'!H23,'Saisie Budget-Investissement'!O23))) | E17: =IF(C17="","",IF($A$1=1,'Saisie Budget-Investissement'!C23,IF($A$1=2,'Saisie Budget-Investissement'!I23,'Saisie Budget-Investissement'!P23))) | F17: =IF(C17="","",IF($A$1=1,'Saisie Budget-Investissement'!D23,IF($A$1=2,'Saisie Budget-Investissement'!J23,'Saisie Budget-Investissement'!Q23))) | G17: =IF(C17="","",IF($A$1=1,'Saisie Budget-Investissement'!E23,IF($A$1=2,'Saisie Budget-Investissement'!K23,'Saisie Budget-Investissement'!R23))) | J17: {=IFERROR(INDEX($C$1:$C$101,MATCH(0,COUNTIF($J$1:J16,$C$1:$C$101),0)),"")} | K17: =IF(J17="",NA(),IF(SUMIF(C:C,'Aide budget'!J17,F:F)=0,NA(),SUMIF(C:C,'Aide budget'!J17,F:F))) -> #N/A | N17: {=IFERROR(INDEX($E$1:$E$101,MATCH(0,COUNTIF($N$1:N16,$E$1:$E$101),0)),"")} | O17: =IF(N17="",#N/A,IF(SUMIF(E:E,N17,F:F)=0,0,SUMIF(E:E,N17,F:F))) -> #N/A | Q17: =SUM('Saisie Budget-Investissement'!Q8:Q107) -> 1588 | W17: =IF('Saisie Budget-Investissement'!M23="","",'Saisie Budget-Investissement'!M23) | X17: =INDEX('Liste Classe d''actifs'!$A$8:$A$37, MATCH(W17,'Liste Classe d''actifs'!$B$8:$B$37,0)) -> #N/A | Y17: =IF(W17="","",'Saisie Budget-Investissement'!Q23) | Z17: =IF(W17="","",'Saisie Budget-Investissement'!R23)
C18: =IF(AND($A$1=1,'Saisie Budget-Investissement'!A24<>""),'Saisie Budget-Investissement'!A24,IF(AND($A$1=2,'Saisie Budget-Investissement'!G24<>""),'Saisie Budget-Investissement'!G24,IF('Saisie Budget-Investissement'!M24<>"",'Saisie Budget-Investissement'!M24,""))) | D18: =IF(C18="","",IF($A$1=1,'Saisie Budget-Investissement'!B24,IF($A$1=2,'Saisie Budget-Investissement'!H24,'Saisie Budget-Investissement'!O24))) | E18: =IF(C18="","",IF($A$1=1,'Saisie Budget-Investissement'!C24,IF($A$1=2,'Saisie Budget-Investissement'!I24,'Saisie Budget-Investissement'!P24))) | F18: =IF(C18="","",IF($A$1=1,'Saisie Budget-Investissement'!D24,IF($A$1=2,'Saisie Budget-Investissement'!J24,'Saisie Budget-Investissement'!Q24))) | G18: =IF(C18="","",IF($A$1=1,'Saisie Budget-Investissement'!E24,IF($A$1=2,'Saisie Budget-Investissement'!K24,'Saisie Budget-Investissement'!R24))) | J18: {=IFERROR(INDEX($C$1:$C$101,MATCH(0,COUNTIF($J$1:J17,$C$1:$C$101),0)),"")} | K18: =IF(J18="",NA(),IF(SUMIF(C:C,'Aide budget'!J18,F:F)=0,NA(),SUMIF(C:C,'Aide budget'!J18,F:F))) -> #N/A | N18: {=IFERROR(INDEX($E$1:$E$101,MATCH(0,COUNTIF($N$1:N17,$E$1:$E$101),0)),"")} | O18: =IF(N18="",#N/A,IF(SUMIF(E:E,N18,F:F)=0,0,SUMIF(E:E,N18,F:F))) -> #N/A | W18: =IF('Saisie Budget-Investissement'!M24="","",'Saisie Budget-Investissement'!M24) | X18: =INDEX('Liste Classe d''actifs'!$A$8:$A$37, MATCH(W18,'Liste Classe d''actifs'!$B$8:$B$37,0)) -> #N/A | Y18: =IF(W18="","",'Saisie Budget-Investissement'!Q24) | Z18: =IF(W18="","",'Saisie Budget-Investissement'!R24)
C19: =IF(AND($A$1=1,'Saisie Budget-Investissement'!A25<>""),'Saisie Budget-Investissement'!A25,IF(AND($A$1=2,'Saisie Budget-Investissement'!G25<>""),'Saisie Budget-Investissement'!G25,IF('Saisie Budget-Investissement'!M25<>"",'Saisie Budget-Investissement'!M25,""))) | D19: =IF(C19="","",IF($A$1=1,'Saisie Budget-Investissement'!B25,IF($A$1=2,'Saisie Budget-Investissement'!H25,'Saisie Budget-Investissement'!O25))) | E19: =IF(C19="","",IF($A$1=1,'Saisie Budget-Investissement'!C25,IF($A$1=2,'Saisie Budget-Investissement'!I25,'Saisie Budget-Investissement'!P25))) | F19: =IF(C19="","",IF($A$1=1,'Saisie Budget-Investissement'!D25,IF($A$1=2,'Saisie Budget-Investissement'!J25,'Saisie Budget-Investissement'!Q25))) | G19: =IF(C19="","",IF($A$1=1,'Saisie Budget-Investissement'!E25,IF($A$1=2,'Saisie Budget-Investissement'!K25,'Saisie Budget-Investissement'!R25))) | J19: {=IFERROR(INDEX($C$1:$C$101,MATCH(0,COUNTIF($J$1:J18,$C$1:$C$101),0)),"")} | K19: =IF(J19="",NA(),IF(SUMIF(C:C,'Aide budget'!J19,F:F)=0,NA(),SUMIF(C:C,'Aide budget'!J19,F:F))) -> #N/A | N19: {=IFERROR(INDEX($E$1:$E$101,MATCH(0,COUNTIF($N$1:N18,$E$1:$E$101),0)),"")} | O19: =IF(N19="",#N/A,IF(SUMIF(E:E,N19,F:F)=0,0,SUMIF(E:E,N19,F:F))) -> #N/A | Q19: Solde après investissement | W19: =IF('Saisie Budget-Investissement'!M25="","",'Saisie Budget-Investissement'!M25) | X19: =INDEX('Liste Classe d''actifs'!$A$8:$A$37, MATCH(W19,'Liste Classe d''actifs'!$B$8:$B$37,0)) -> #N/A | Y19: =IF(W19="","",'Saisie Budget-Investissement'!Q25) | Z19: =IF(W19="","",'Saisie Budget-Investissement'!R25)
C20: =IF(AND($A$1=1,'Saisie Budget-Investissement'!A26<>""),'Saisie Budget-Investissement'!A26,IF(AND($A$1=2,'Saisie Budget-Investissement'!G26<>""),'Saisie Budget-Investissement'!G26,IF('Saisie Budget-Investissement'!M26<>"",'Saisie Budget-Investissement'!M26,""))) | D20: =IF(C20="","",IF($A$1=1,'Saisie Budget-Investissement'!B26,IF($A$1=2,'Saisie Budget-Investissement'!H26,'Saisie Budget-Investissement'!O26))) | E20: =IF(C20="","",IF($A$1=1,'Saisie Budget-Investissement'!C26,IF($A$1=2,'Saisie Budget-Investissement'!I26,'Saisie Budget-Investissement'!P26))) | F20: =IF(C20="","",IF($A$1=1,'Saisie Budget-Investissement'!D26,IF($A$1=2,'Saisie Budget-Investissement'!J26,'Saisie Budget-Investissement'!Q26))) | G20: =IF(C20="","",IF($A$1=1,'Saisie Budget-Investissement'!E26,IF($A$1=2,'Saisie Budget-Investissement'!K26,'Saisie Budget-Investissement'!R26))) | J20: {=IFERROR(INDEX($C$1:$C$101,MATCH(0,COUNTIF($J$1:J19,$C$1:$C$101),0)),"")} | K20: =IF(J20="",NA(),IF(SUMIF(C:C,'Aide budget'!J20,F:F)=0,NA(),SUMIF(C:C,'Aide budget'!J20,F:F))) -> #N/A | N20: {=IFERROR(INDEX($E$1:$E$101,MATCH(0,COUNTIF($N$1:N19,$E$1:$E$101),0)),"")} | O20: =IF(N20="",#N/A,IF(SUMIF(E:E,N20,F:F)=0,0,SUMIF(E:E,N20,F:F))) -> #N/A | Q20: =Q14-Q17 -> 0 | W20: =IF('Saisie Budget-Investissement'!M26="","",'Saisie Budget-Investissement'!M26) | X20: =INDEX('Liste Classe d''actifs'!$A$8:$A$37, MATCH(W20,'Liste Classe d''actifs'!$B$8:$B$37,0)) -> #N/A | Y20: =IF(W20="","",'Saisie Budget-Investissement'!Q26) | Z20: =IF(W20="","",'Saisie Budget-Investissement'!R26)
C21: =IF(AND($A$1=1,'Saisie Budget-Investissement'!A27<>""),'Saisie Budget-Investissement'!A27,IF(AND($A$1=2,'Saisie Budget-Investissement'!G27<>""),'Saisie Budget-Investissement'!G27,IF('Saisie Budget-Investissement'!M27<>"",'Saisie Budget-Investissement'!M27,""))) | D21: =IF(C21="","",IF($A$1=1,'Saisie Budget-Investissement'!B27,IF($A$1=2,'Saisie Budget-Investissement'!H27,'Saisie Budget-Investissement'!O27))) | E21: =IF(C21="","",IF($A$1=1,'Saisie Budget-Investissement'!C27,IF($A$1=2,'Saisie Budget-Investissement'!I27,'Saisie Budget-Investissement'!P27))) | F21: =IF(C21="","",IF($A$1=1,'Saisie Budget-Investissement'!D27,IF($A$1=2,'Saisie Budget-Investissement'!J27,'Saisie Budget-Investissement'!Q27))) | G21: =IF(C21="","",IF($A$1=1,'Saisie Budget-Investissement'!E27,IF($A$1=2,'Saisie Budget-Investissement'!K27,'Saisie Budget-Investissement'!R27))) | J21: {=IFERROR(INDEX($C$1:$C$101,MATCH(0,COUNTIF($J$1:J20,$C$1:$C$101),0)),"")} | K21: =IF(J21="",NA(),IF(SUMIF(C:C,'Aide budget'!J21,F:F)=0,NA(),SUMIF(C:C,'Aide budget'!J21,F:F))) -> #N/A | N21: {=IFERROR(INDEX($E$1:$E$101,MATCH(0,COUNTIF($N$1:N20,$E$1:$E$101),0)),"")} | O21: =IF(N21="",#N/A,IF(SUMIF(E:E,N21,F:F)=0,0,SUMIF(E:E,N21,F:F))) -> #N/A | W21: =IF('Saisie Budget-Investissement'!M27="","",'Saisie Budget-Investissement'!M27) | X21: =INDEX('Liste Classe d''actifs'!$A$8:$A$37, MATCH(W21,'Liste Classe d''actifs'!$B$8:$B$37,0)) -> #N/A | Y21: =IF(W21="","",'Saisie Budget-Investissement'!Q27) | Z21: =IF(W21="","",'Saisie Budget-Investissement'!R27)
C22: =IF(AND($A$1=1,'Saisie Budget-Investissement'!A28<>""),'Saisie Budget-Investissement'!A28,IF(AND($A$1=2,'Saisie Budget-Investissement'!G28<>""),'Saisie Budget-Investissement'!G28,IF('Saisie Budget-Investissement'!M28<>"",'Saisie Budget-Investissement'!M28,""))) | D22: =IF(C22="","",IF($A$1=1,'Saisie Budget-Investissement'!B28,IF($A$1=2,'Saisie Budget-Investissement'!H28,'Saisie Budget-Investissement'!O28))) | E22: =IF(C22="","",IF($A$1=1,'Saisie Budget-Investissement'!C28,IF($A$1=2,'Saisie Budget-Investissement'!I28,'Saisie Budget-Investissement'!P28))) | F22: =IF(C22="","",IF($A$1=1,'Saisie Budget-Investissement'!D28,IF($A$1=2,'Saisie Budget-Investissement'!J28,'Saisie Budget-Investissement'!Q28))) | G22: =IF(C22="","",IF($A$1=1,'Saisie Budget-Investissement'!E28,IF($A$1=2,'Saisie Budget-Investissement'!K28,'Saisie Budget-Investissement'!R28))) | J22: {=IFERROR(INDEX($C$1:$C$101,MATCH(0,COUNTIF($J$1:J21,$C$1:$C$101),0)),"")} | K22: =IF(J22="",NA(),IF(SUMIF(C:C,'Aide budget'!J22,F:F)=0,NA(),SUMIF(C:C,'Aide budget'!J22,F:F))) -> #N/A | N22: {=IFERROR(INDEX($E$1:$E$101,MATCH(0,COUNTIF($N$1:N21,$E$1:$E$101),0)),"")} | O22: =IF(N22="",#N/A,IF(SUMIF(E:E,N22,F:F)=0,0,SUMIF(E:E,N22,F:F))) -> #N/A | W22: =IF('Saisie Budget-Investissement'!M28="","",'Saisie Budget-Investissement'!M28) | X22: =INDEX('Liste Classe d''actifs'!$A$8:$A$37, MATCH(W22,'Liste Classe d''actifs'!$B$8:$B$37,0)) -> #N/A | Y22: =IF(W22="","",'Saisie Budget-Investissement'!Q28) | Z22: =IF(W22="","",'Saisie Budget-Investissement'!R28)
C23: =IF(AND($A$1=1,'Saisie Budget-Investissement'!A29<>""),'Saisie Budget-Investissement'!A29,IF(AND($A$1=2,'Saisie Budget-Investissement'!G29<>""),'Saisie Budget-Investissement'!G29,IF('Saisie Budget-Investissement'!M29<>"",'Saisie Budget-Investissement'!M29,""))) | D23: =IF(C23="","",IF($A$1=1,'Saisie Budget-Investissement'!B29,IF($A$1=2,'Saisie Budget-Investissement'!H29,'Saisie Budget-Investissement'!O29))) | E23: =IF(C23="","",IF($A$1=1,'Saisie Budget-Investissement'!C29,IF($A$1=2,'Saisie Budget-Investissement'!I29,'Saisie Budget-Investissement'!P29))) | F23: =IF(C23="","",IF($A$1=1,'Saisie Budget-Investissement'!D29,IF($A$1=2,'Saisie Budget-Investissement'!J29,'Saisie Budget-Investissement'!Q29))) | G23: =IF(C23="","",IF($A$1=1,'Saisie Budget-Investissement'!E29,IF($A$1=2,'Saisie Budget-Investissement'!K29,'Saisie Budget-Investissement'!R29))) | J23: {=IFERROR(INDEX($C$1:$C$101,MATCH(0,COUNTIF($J$1:J22,$C$1:$C$101),0)),"")} | K23: =IF(J23="",NA(),IF(SUMIF(C:C,'Aide budget'!J23,F:F)=0,NA(),SUMIF(C:C,'Aide budget'!J23,F:F))) -> #N/A | N23: {=IFERROR(INDEX($E$1:$E$101,MATCH(0,COUNTIF($N$1:N22,$E$1:$E$101),0)),"")} | O23: =IF(N23="",#N/A,IF(SUMIF(E:E,N23,F:F)=0,0,SUMIF(E:E,N23,F:F))) -> #N/A | W23: =IF('Saisie Budget-Investissement'!M29="","",'Saisie Budget-Investissement'!M29) | X23: =INDEX('Liste Classe d''actifs'!$A$8:$A$37, MATCH(W23,'Liste Classe d''actifs'!$B$8:$B$37,0)) -> #N/A | Y23: =IF(W23="","",'Saisie Budget-Investissement'!Q29) | Z23: =IF(W23="","",'Saisie Budget-Investissement'!R29)
